BEGIN:VCALENDAR
VERSION:2.0
PRODID:-//Brahma Kumaris - ECPv6.15.11//NONSGML v1.0//EN
CALSCALE:GREGORIAN
METHOD:PUBLISH
X-WR-CALNAME:Brahma Kumaris
X-ORIGINAL-URL:https://brahmakumaris.org.br
X-WR-CALDESC:Eventos para Brahma Kumaris
REFRESH-INTERVAL;VALUE=DURATION:PT1H
X-Robots-Tag:noindex
X-PUBLISHED-TTL:PT1H
BEGIN:VTIMEZONE
TZID:America/Sao_Paulo
BEGIN:STANDARD
TZOFFSETFROM:-0300
TZOFFSETTO:-0300
TZNAME:-03
DTSTART:20250101T000000
END:STANDARD
END:VTIMEZONE
BEGIN:VEVENT
DTSTART;VALUE=DATE:20260428
DTEND;VALUE=DATE:20260429
DTSTAMP:20260421T133116
CREATED:20260418T224008Z
LAST-MODIFIED:20260418T224008Z
UID:16749-1777334400-1777420799@brahmakumaris.org.br
SUMMARY:ABR 28
DESCRIPTION:
URL:https://brahmakumaris.org.br/mensagens-diarias/abr-28-3/
ATTACH;FMTTYPE=image/png:https://brahmakumaris.org.br/wp-content/uploads/2026/04/28-April-2026-Portuguese.png
END:VEVENT
BEGIN:VEVENT
DTSTART;VALUE=DATE:20260429
DTEND;VALUE=DATE:20260430
DTSTAMP:20260421T133116
CREATED:20260418T224123Z
LAST-MODIFIED:20260418T224123Z
UID:16752-1777420800-1777507199@brahmakumaris.org.br
SUMMARY:ABR 29
DESCRIPTION:
URL:https://brahmakumaris.org.br/mensagens-diarias/abr-29-3/
ATTACH;FMTTYPE=image/png:https://brahmakumaris.org.br/wp-content/uploads/2026/04/29-April-2026-Portuguese.png
END:VEVENT
BEGIN:VEVENT
DTSTART;VALUE=DATE:20260430
DTEND;VALUE=DATE:20260501
DTSTAMP:20260421T133116
CREATED:20260418T224248Z
LAST-MODIFIED:20260418T224248Z
UID:16755-1777507200-1777593599@brahmakumaris.org.br
SUMMARY:ABR 30
DESCRIPTION:
URL:https://brahmakumaris.org.br/mensagens-diarias/abr-30-3/
ATTACH;FMTTYPE=image/png:https://brahmakumaris.org.br/wp-content/uploads/2026/04/30-April-2026-Portuguese.png
END:VEVENT
END:VCALENDAR